BEGIN:VCALENDAR
PRODID:-//Microsoft Corporation//Outlook 16.0 MIMEDIR//EN
VERSION:2.0
METHOD:REQUEST
X-MS-OLK-FORCEINSPECTOROPEN:TRUE
BEGIN:VTIMEZONE
TZID:Eastern Standard Time
BEGIN:STANDARD
DTSTART:16011104T020000
RRULE:FREQ=YEARLY;BYDAY=1SU;BYMONTH=11
TZOFFSETFROM:-0400
TZOFFSETTO:-0500
END:STANDARD
BEGIN:DAYLIGHT
DTSTART:16010311T020000
RRULE:FREQ=YEARLY;BYDAY=2SU;BYMONTH=3
TZOFFSETFROM:-0500
TZOFFSETTO:-0400
END:DAYLIGHT
END:VTIMEZONE
BEGIN:VEVENT
ATTENDEE;CN="Rao, Venkatesh";RSVP=TRUE:mailto:Rao.Venkatesh@epa.gov
ATTENDEE;CN="Snyder, Jennifer";RSVP=TRUE:mailto:Snyder.Jennifer@epa.gov
CLASS:PUBLIC
CREATED:20210915T222252Z
DESCRIPTION:Due to the ongoing impact of COVID-19\, the Emissions Inventory
	 and Analysis Group of the EPA will not be holding an in-person Emissions 
	Inventory Conference this year. In lieu of the conference\, we will be hol
	ding bimonthly seminars covering topics related to emission inventories an
	d methods behind their development. These seminars will be held on the 2nd
	 and 4th Wednesday of the month from 2:00-3:30pm Eastern\, excluding holid
	ay weeks. If you are interested in giving a presentation during this semin
	ar series\, please contact Caroline Farkas (farkas.caroline@epa.gov <mailt
	o:farkas.caroline@epa.gov> ).\n\n \n\n____________________________________
	____________________________________________ \n\nMicrosoft Teams meeting \
	n\nJoin on your computer or mobile app \n\nClick here to join the meeting 
	<https://teams.microsoft.com/l/meetup-join/19%3ameeting_ZjczYTQwNDktMjUxZC
	00YTBiLWI3MTQtNjI4YWY0MWE2N2Qw%40thread.v2/0?context=%7b%22Tid%22%3a%2288b
	378b3-6748-4867-acf9-76aacbeca6a7%22%2c%22Oid%22%3a%22799b63c5-998c-4f0f-b
	147-7d18345ff3d4%22%7d>  \n\nOr call in (audio only) \n\n+1 984-444-7480\,
	\,948092022# <tel:+19844447480\,\,948092022#>    United States\, Raleigh \
	n\nPhone Conference ID: 948 092 022# \n\nFind a local number <https://dial
	in.teams.microsoft.com/556a4b78-4afd-4fe6-b721-1d903e8cdaa6?id=948092022> 
	 | Reset PIN <https://mysettings.lync.com/pstnconferencing>  \n\nBy partic
	ipating in EPA hosted virtual meetings and events\, you are consenting to 
	abide by the agency's terms of use. In addition\, you acknowledge that con
	tent you post may be collected and used in support of FOIA and eDiscovery 
	activities. \n\nLearn More <https://aka.ms/JoinTeamsMeeting>  | Meeting op
	tions <https://teams.microsoft.com/meetingOptions/?organizerId=799b63c5-99
	8c-4f0f-b147-7d18345ff3d4&tenantId=88b378b3-6748-4867-acf9-76aacbeca6a7&th
	readId=19_meeting_ZjczYTQwNDktMjUxZC00YTBiLWI3MTQtNjI4YWY0MWE2N2Qw@thread.
	v2&messageId=0&language=en-US>  \n\n______________________________________
	__________________________________________ \n\n \n\n
DTEND;TZID="Eastern Standard Time":20211013T153000
DTSTAMP:20210915T222224Z
DTSTART;TZID="Eastern Standard Time":20211013T140000
LAST-MODIFIED:20210915T222252Z
LOCATION:Microsoft Teams Meeting
ORGANIZER;CN="Farkas, Caroline":mailto:farkas.caroline@epa.gov
PRIORITY:5
RRULE:FREQ=MONTHLY;COUNT=6;BYDAY=WE;BYSETPOS=2
SEQUENCE:1
SUMMARY;LANGUAGE=en-us:Emissions Inventory Virtual Seminar Series
TRANSP:OPAQUE
UID:040000008200E00074C5B7101A82E00800000000D0427BCD4DAAD701000000000000000
	0100000000D0E31816435624198AC155DC0AEA503
X-ALT-DESC;FMTTYPE=text/html:<html xmlns:v="urn:schemas-microsoft-com:vml" 
	xmlns:o="urn:schemas-microsoft-com:office:office" xmlns:w="urn:schemas-mic
	rosoft-com:office:word" xmlns:m="http://schemas.microsoft.com/office/2004/
	12/omml" xmlns="http://www.w3.org/TR/REC-html40"><head><meta name=Generato
	r content="Microsoft Word 15 (filtered medium)"><style><!--\n/* Font Defin
	itions */\n@font-face\n	{font-family:"Cambria Math"\;\n	panose-1:2 4 5 3 5
	 4 6 3 2 4\;}\n@font-face\n	{font-family:Calibri\;\n	panose-1:2 15 5 2 2 2
	 4 3 2 4\;}\n@font-face\n	{font-family:"Segoe UI"\;\n	panose-1:2 11 5 2 4 
	2 4 2 2 3\;}\n@font-face\n	{font-family:"Segoe UI Semibold"\;\n	panose-1:2
	 11 7 2 4 2 4 2 2 3\;}\n/* Style Definitions */\np.MsoNormal\, li.MsoNorma
	l\, div.MsoNormal\n	{margin:0in\;\n	margin-bottom:.0001pt\;\n	font-size:11
	.0pt\;\n	font-family:"Calibri"\,sans-serif\;}\na:link\, span.MsoHyperlink\
	n	{mso-style-priority:99\;\n	color:#0563C1\;\n	text-decoration:underline\;
	}\na:visited\, span.MsoHyperlinkFollowed\n	{mso-style-priority:99\;\n	colo
	r:#954F72\;\n	text-decoration:underline\;}\np.msonormal0\, li.msonormal0\,
	 div.msonormal0\n	{mso-style-name:msonormal\;\n	mso-margin-top-alt:auto\;\
	n	margin-right:0in\;\n	mso-margin-bottom-alt:auto\;\n	margin-left:0in\;\n	
	font-size:11.0pt\;\n	font-family:"Calibri"\,sans-serif\;}\nspan.EmailStyle
	18\n	{mso-style-type:personal-compose\;\n	font-family:"Calibri"\,sans-seri
	f\;\n	color:windowtext\;}\n.MsoChpDefault\n	{mso-style-type:export-only\;\
	n	font-size:10.0pt\;}\n@page WordSection1\n	{size:8.5in 11.0in\;\n	margin:
	1.0in 1.0in 1.0in 1.0in\;}\ndiv.WordSection1\n	{page:WordSection1\;}\n--><
	/style><!--[if gte mso 9]><xml>\n<o:shapedefaults v:ext="edit" spidmax="10
	26" />\n</xml><![endif]--><!--[if gte mso 9]><xml>\n<o:shapelayout v:ext="
	edit">\n<o:idmap v:ext="edit" data="1" />\n</o:shapelayout></xml><![endif]
	--></head><body lang=EN-US link="#0563C1" vlink="#954F72"><div class=WordS
	ection1><p class=MsoNormal>Due to the ongoing impact of COVID-19\, the Emi
	ssions Inventory and Analysis Group of the EPA will not be holding an in-p
	erson Emissions Inventory Conference this year. In lieu of the conference\
	, we will be holding bimonthly seminars covering topics related to emissio
	n inventories and methods behind their development. These seminars will be
	 held on the 2<sup>nd</sup> and 4<sup>th</sup> Wednesday of the month from
	 2:00-3:30pm Eastern\, excluding holiday weeks. If you are interested in g
	iving a presentation during this seminar series\, please contact Caroline 
	Farkas (<a href="mailto:farkas.caroline@epa.gov">farkas.caroline@epa.gov</
	a>).<o:p></o:p></p><p class=MsoNormal><o:p>&nbsp\;</o:p></p><p class=MsoNo
	rmal><span style='color:#5F5F5F'>_________________________________________
	_______________________________________</span> <o:p></o:p></p><div><div st
	yle='margin-top:.25in\;margin-bottom:15.0pt'><p class=MsoNormal><span styl
	e='font-size:18.0pt\;font-family:"Segoe UI"\,sans-serif\;color:#252424'>Mi
	crosoft Teams meeting</span><span style='font-family:"Segoe UI"\,sans-seri
	f\;color:#252424'> <o:p></o:p></span></p></div><div style='margin-bottom:1
	5.0pt'><div><p class=MsoNormal><b><span style='font-size:10.5pt\;font-fami
	ly:"Segoe UI"\,sans-serif\;color:#252424'>Join on your computer or mobile 
	app</span></b><b><span style='font-family:"Segoe UI"\,sans-serif\;color:#2
	52424'> <o:p></o:p></span></b></p></div><p class=MsoNormal><span style='fo
	nt-family:"Segoe UI"\,sans-serif\;color:#252424'><a href="https://teams.mi
	crosoft.com/l/meetup-join/19%3ameeting_ZjczYTQwNDktMjUxZC00YTBiLWI3MTQtNjI
	4YWY0MWE2N2Qw%40thread.v2/0?context=%7b%22Tid%22%3a%2288b378b3-6748-4867-a
	cf9-76aacbeca6a7%22%2c%22Oid%22%3a%22799b63c5-998c-4f0f-b147-7d18345ff3d4%
	22%7d" target="_blank"><span style='font-size:10.5pt\;font-family:"Segoe U
	I Semibold"\,sans-serif\;color:#6264A7'>Click here to join the meeting</sp
	an></a> <o:p></o:p></span></p></div><div style='margin-bottom:3.0pt'><div 
	style='margin-bottom:3.0pt'><p class=MsoNormal><b><span style='font-size:1
	0.5pt\;font-family:"Segoe UI"\,sans-serif\;color:#252424'>Or call in (audi
	o only)</span></b><span style='font-family:"Segoe UI"\,sans-serif\;color:#
	252424'> <o:p></o:p></span></p></div><div style='margin-bottom:3.0pt'><p c
	lass=MsoNormal><span style='font-family:"Segoe UI"\,sans-serif\;color:#252
	424'><a href="tel:+19844447480\,\,948092022# "><span style='font-size:10.5
	pt\;color:#6264A7'>+1 984-444-7480\,\,948092022#</span></a> </span><span s
	tyle='font-size:10.5pt\;font-family:"Segoe UI"\,sans-serif\;color:#252424'
	>&nbsp\; United States\, Raleigh </span><span style='font-family:"Segoe UI
	"\,sans-serif\;color:#252424'><o:p></o:p></span></p></div></div><p class=M
	soNormal><span style='font-size:10.5pt\;font-family:"Segoe UI"\,sans-serif
	\;color:#252424'>Phone Conference ID: </span><span style='font-size:12.0pt
	\;font-family:"Segoe UI"\,sans-serif\;color:#252424'>948 092 022# </span><
	span style='font-family:"Segoe UI"\,sans-serif\;color:#252424'><o:p></o:p>
	</span></p><div style='margin-bottom:15.0pt'><p class=MsoNormal><span styl
	e='font-family:"Segoe UI"\,sans-serif\;color:#252424'><a href="https://dia
	lin.teams.microsoft.com/556a4b78-4afd-4fe6-b721-1d903e8cdaa6?id=948092022"
	 target="_blank"><span style='font-size:10.5pt\;color:#6264A7'>Find a loca
	l number</span></a> | <a href="https://mysettings.lync.com/pstnconferencin
	g" target="_blank"><span style='font-size:10.5pt\;color:#6264A7'>Reset PIN
	</span></a> <o:p></o:p></span></p></div><div style='margin-bottom:3.0pt'><
	p class=MsoNormal><span style='font-size:10.5pt\;font-family:"Segoe UI"\,s
	ans-serif\;color:#252424'>By participating in EPA hosted virtual meetings 
	and events\, you are consenting to abide by the agency's terms of use. In 
	addition\, you acknowledge that content you post may be collected and used
	 in support of FOIA and eDiscovery activities. <o:p></o:p></span></p></div
	><div style='margin-top:15.0pt\;margin-bottom:.25in'><p class=MsoNormal><s
	pan style='font-family:"Segoe UI"\,sans-serif\;color:#252424'><a href="htt
	ps://aka.ms/JoinTeamsMeeting" target="_blank"><span style='font-size:10.5p
	t\;color:#6264A7'>Learn More</span></a> | <a href="https://teams.microsoft
	.com/meetingOptions/?organizerId=799b63c5-998c-4f0f-b147-7d18345ff3d4&amp\
	;tenantId=88b378b3-6748-4867-acf9-76aacbeca6a7&amp\;threadId=19_meeting_Zj
	czYTQwNDktMjUxZC00YTBiLWI3MTQtNjI4YWY0MWE2N2Qw@thread.v2&amp\;messageId=0&
	amp\;language=en-US" target="_blank"><span style='font-size:10.5pt\;color:
	#6264A7'>Meeting options</span></a> <o:p></o:p></span></p></div></div><div
	><p class=MsoNormal><span style='color:#5F5F5F'>__________________________
	______________________________________________________</span> <o:p></o:p><
	/p></div><p class=MsoNormal><o:p>&nbsp\;</o:p></p></div></body></html>
X-MICROSOFT-CDO-BUSYSTATUS:BUSY
X-MICROSOFT-CDO-IMPORTANCE:1
X-MICROSOFT-DISALLOW-COUNTER:FALSE
X-MS-OLK-APPTLASTSEQUENCE:1
X-MS-OLK-APPTSEQTIME:20210915T222224Z
X-MS-OLK-AUTOFILLLOCATION:FALSE
X-MS-OLK-CONFTYPE:0
BEGIN:VALARM
TRIGGER:-PT15M
ACTION:DISPLAY
DESCRIPTION:Reminder
END:VALARM
END:VEVENT
END:VCALENDAR
